BEGIN:VCALENDAR
VERSION:2.0
PRODID:-//Colégio Efanor - ECPv6.15.14//NONSGML v1.0//EN
CALSCALE:GREGORIAN
METHOD:PUBLISH
X-WR-CALNAME:Colégio Efanor
X-ORIGINAL-URL:https://novo.colegioefanor.pt
X-WR-CALDESC:Eventos para Colégio Efanor
REFRESH-INTERVAL;VALUE=DURATION:PT1H
X-Robots-Tag:noindex
X-PUBLISHED-TTL:PT1H
BEGIN:VTIMEZONE
TZID:UTC
BEGIN:STANDARD
TZOFFSETFROM:+0000
TZOFFSETTO:+0000
TZNAME:UTC
DTSTART:20250101T000000
END:STANDARD
END:VTIMEZONE
BEGIN:VEVENT
DTSTART;VALUE=DATE:20260318
DTEND;VALUE=DATE:20260319
DTSTAMP:20260419T181038
CREATED:20260306T100502Z
LAST-MODIFIED:20260306T175129Z
UID:39584-1773792000-1773878399@novo.colegioefanor.pt
SUMMARY:Palestra com o Professor Doutor Sobrinho Simões
DESCRIPTION:Ensino Secundário
URL:https://novo.colegioefanor.pt/event/palestra-com-o-professor-doutor-sobrinho-simoes/
END:VEVENT
END:VCALENDAR