BEGIN:VCALENDAR
VERSION:2.0
PRODID:-//Colégio Efanor - ECPv6.15.14//NONSGML v1.0//EN
CALSCALE:GREGORIAN
METHOD:PUBLISH
X-WR-CALNAME:Colégio Efanor
X-ORIGINAL-URL:https://novo.colegioefanor.pt
X-WR-CALDESC:Eventos para Colégio Efanor
REFRESH-INTERVAL;VALUE=DURATION:PT1H
X-Robots-Tag:noindex
X-PUBLISHED-TTL:PT1H
BEGIN:VTIMEZONE
TZID:UTC
BEGIN:STANDARD
TZOFFSETFROM:+0000
TZOFFSETTO:+0000
TZNAME:UTC
DTSTART:20250101T000000
END:STANDARD
END:VTIMEZONE
BEGIN:VEVENT
DTSTART;VALUE=DATE:20260326
DTEND;VALUE=DATE:20260327
DTSTAMP:20260419T181058
CREATED:20260306T104055Z
LAST-MODIFIED:20260306T175357Z
UID:39622-1774483200-1774569599@novo.colegioefanor.pt
SUMMARY:Apresentação Pré-Escolar | Sala da Sílvia Barreto
DESCRIPTION:Apresentação dos 5 Anos
URL:https://novo.colegioefanor.pt/event/apresentacao-pre-escolar-silvia-barreto/
END:VEVENT
END:VCALENDAR