BEGIN:VCALENDAR
VERSION:2.0
PRODID:-//Colégio Efanor - ECPv6.15.14//NONSGML v1.0//EN
CALSCALE:GREGORIAN
METHOD:PUBLISH
X-ORIGINAL-URL:https://novo.colegioefanor.pt
X-WR-CALDESC:Eventos para Colégio Efanor
REFRESH-INTERVAL;VALUE=DURATION:PT1H
X-Robots-Tag:noindex
X-PUBLISHED-TTL:PT1H
BEGIN:VTIMEZONE
TZID:UTC
BEGIN:STANDARD
TZOFFSETFROM:+0000
TZOFFSETTO:+0000
TZNAME:UTC
DTSTART:20250101T000000
END:STANDARD
END:VTIMEZONE
BEGIN:VEVENT
DTSTART;TZID=UTC:20260522T000000
DTEND;TZID=UTC:20260522T235900
DTSTAMP:20260419T174947
CREATED:20260310T111043Z
LAST-MODIFIED:20260306T175602Z
UID:38654-1779408000-1779494340@novo.colegioefanor.pt
SUMMARY:Exames ESPANHOL DELE | A1 ESCOLAR | A2B1 ESCOLAR
DESCRIPTION:Realização dos Exames de ESPANHOL DELE
URL:https://novo.colegioefanor.pt/event/exames-espanhol-dele-a1-escolar-a2b1-escolar/
END:VEVENT
END:VCALENDAR