BEGIN:VCALENDAR
VERSION:2.0
PRODID:-//Colégio Efanor - ECPv6.15.14//NONSGML v1.0//EN
CALSCALE:GREGORIAN
METHOD:PUBLISH
X-ORIGINAL-URL:https://novo.colegioefanor.pt
X-WR-CALDESC:Eventos para Colégio Efanor
REFRESH-INTERVAL;VALUE=DURATION:PT1H
X-Robots-Tag:noindex
X-PUBLISHED-TTL:PT1H
BEGIN:VTIMEZONE
TZID:UTC
BEGIN:STANDARD
TZOFFSETFROM:+0000
TZOFFSETTO:+0000
TZNAME:UTC
DTSTART:20250101T000000
END:STANDARD
END:VTIMEZONE
BEGIN:VEVENT
DTSTART;TZID=UTC:20260629T000000
DTEND;TZID=UTC:20260710T235900
DTSTAMP:20260419T233027
CREATED:20260306T112050Z
LAST-MODIFIED:20260306T175633Z
UID:34962-1782691200-1783727940@novo.colegioefanor.pt
SUMMARY:Época Balnear | Pré-Escolar e 1.º CEB
DESCRIPTION:Atividades de Época Balnear para os alunos do Pré-Escolar e 1.º CEB.
URL:https://novo.colegioefanor.pt/event/epoca-balnear-pre-escolar-e-1-ceb/
CATEGORIES:Featured
END:VEVENT
BEGIN:VEVENT
DTSTART;TZID=UTC:20260629T000000
DTEND;TZID=UTC:20260710T235900
DTSTAMP:20260419T233027
CREATED:20260306T112512Z
LAST-MODIFIED:20260306T175649Z
UID:34956-1782691200-1783727940@novo.colegioefanor.pt
SUMMARY:Campo de Férias | 2.º e 3.º CEB
DESCRIPTION:Atividades do Campo de Férias para os alunos do 2.º e 3.º CEB.
URL:https://novo.colegioefanor.pt/event/campo-de-ferias-2-3-ceb/
CATEGORIES:Featured
END:VEVENT
END:VCALENDAR