BEGIN:VCALENDAR
VERSION:2.0
PRODID:-//Colégio Efanor - ECPv6.15.14//NONSGML v1.0//EN
CALSCALE:GREGORIAN
METHOD:PUBLISH
X-WR-CALNAME:Colégio Efanor
X-ORIGINAL-URL:https://novo.colegioefanor.pt
X-WR-CALDESC:Eventos para Colégio Efanor
REFRESH-INTERVAL;VALUE=DURATION:PT1H
X-Robots-Tag:noindex
X-PUBLISHED-TTL:PT1H
BEGIN:VTIMEZONE
TZID:UTC
BEGIN:STANDARD
TZOFFSETFROM:+0000
TZOFFSETTO:+0000
TZNAME:UTC
DTSTART:20250101T000000
END:STANDARD
END:VTIMEZONE
BEGIN:VEVENT
DTSTART;TZID=UTC:20260220T000000
DTEND;TZID=UTC:20260220T235900
DTSTAMP:20260419T180953
CREATED:20260220T093526Z
LAST-MODIFIED:20260303T114437Z
UID:29063-1771545600-1771631940@novo.colegioefanor.pt
SUMMARY:Dia do Colégio
DESCRIPTION:Celebração do 17º aniversário da abertura do colégio. \nVer o calendário escolar
URL:https://novo.colegioefanor.pt/event/dia-do-colegio/
CATEGORIES:Featured
ATTACH;FMTTYPE=image/jpeg:https://novo.colegioefanor.pt/wp-content/uploads/2025/07/dd307-dsc08562-e1761086310718.jpg
END:VEVENT
END:VCALENDAR